BEGIN:VCALENDAR

VERSION:2.0

PRODID:-//wp-events-plugin.com//7.2.3.1//EN

TZID:Europe/Lisbon

X-WR-TIMEZONE:Europe/Lisbon
BEGIN:VEVENT

UID:102@clubegolfecaixa.pt

DTSTART;TZID=Europe/Lisbon;VALUE=DATE:20190613

DTEND;TZID=Europe/Lisbon;VALUE=DATE:20190614

DTSTAMP:20190613T170847Z

URL:https://clubegolfecaixa.pt/golfe/events/lisbon/

SUMMARY:Lisbon - Golfe
DESCRIPTION:[et_pb_section bb_built="1"][et_pb_row][et_pb_column type="1_2"
 ][et_pb_text _builder_version="3.24" text_text_shadow_horizontal_length="t
 ext_text_shadow_style\,%91object Object%93" text_text_shadow_horizontal_le
 ngth_tablet="0px" text_text_shadow_vertical_length="text_text_shadow_style
 \,%91object Object%93" text_text_shadow_vertical_length_tablet="0px" text_
 text_shadow_blur_strength="text_text_shadow_style\,%91object Object%93" te
 xt_text_shadow_blur_strength_tablet="1px" link_text_shadow_horizontal_leng
 th="link_text_shadow_style\,%91object Object%93" link_text_shadow_horizont
 al_length_tablet="0px" link_text_shadow_vertical_length="link_text_shadow_
 style\,%91object Object%93" link_text_shadow_vertical_length_tablet="0px" 
 link_text_shadow_blur_strength="link_text_shadow_style\,%91object Object%9
 3" link_text_shadow_blur_strength_tablet="1px" ul_text_shadow_horizontal_l
 ength="ul_text_shadow_style\,%91object Object%93" ul_text_shadow_horizonta
 l_length_tablet="0px" ul_text_shadow_vertical_length="ul_text_shadow_style
 \,%91object Object%93" ul_text_shadow_vertical_length_tablet="0px" ul_text
 _shadow_blur_strength="ul_text_shadow_style\,%91object Object%93" ul_text_
 shadow_blur_strength_tablet="1px" ol_text_shadow_horizontal_length="ol_tex
 t_shadow_style\,%91object Object%93" ol_text_shadow_horizontal_length_tabl
 et="0px" ol_text_shadow_vertical_length="ol_text_shadow_style\,%91object O
 bject%93" ol_text_shadow_vertical_length_tablet="0px" ol_text_shadow_blur_
 strength="ol_text_shadow_style\,%91object Object%93" ol_text_shadow_blur_s
 trength_tablet="1px" quote_text_shadow_horizontal_length="quote_text_shado
 w_style\,%91object Object%93" quote_text_shadow_horizontal_length_tablet="
 0px" quote_text_shadow_vertical_length="quote_text_shadow_style\,%91object
  Object%93" quote_text_shadow_vertical_length_tablet="0px" quote_text_shad
 ow_blur_strength="quote_text_shadow_style\,%91object Object%93" quote_text
 _shadow_blur_strength_tablet="1px" header_text_shadow_horizontal_length="h
 eader_text_shadow_style\,%91object Object%93" header_text_shadow_horizonta
 l_length_tablet="0px" header_text_shadow_vertical_length="header_text_shad
 ow_style\,%91object Object%93" header_text_shadow_vertical_length_tablet="
 0px" header_text_shadow_blur_strength="header_text_shadow_style\,%91object
  Object%93" header_text_shadow_blur_strength_tablet="1px" header_2_text_sh
 adow_horizontal_length="header_2_text_shadow_style\,%91object Object%93" h
 eader_2_text_shadow_horizontal_length_tablet="0px" header_2_text_shadow_ve
 rtical_length="header_2_text_shadow_style\,%91object Object%93" header_2_t
 ext_shadow_vertical_length_tablet="0px" header_2_text_shadow_blur_strength
 ="header_2_text_shadow_style\,%91object Object%93" header_2_text_shadow_bl
 ur_strength_tablet="1px" header_3_text_shadow_horizontal_length="header_3_
 text_shadow_style\,%91object Object%93" header_3_text_shadow_horizontal_le
 ngth_tablet="0px" header_3_text_shadow_vertical_length="header_3_text_shad
 ow_style\,%91object Object%93" header_3_text_shadow_vertical_length_tablet
 ="0px" header_3_text_shadow_blur_strength="header_3_text_shadow_style\,%91
 object Object%93" header_3_text_shadow_blur_strength_tablet="1px" header_4
 _text_shadow_horizontal_length="header_4_text_shadow_style\,%91object Obje
 ct%93" header_4_text_shadow_horizontal_length_tablet="0px" header_4_text_s
 hadow_vertical_length="header_4_text_shadow_style\,%91object Object%93" he
 ader_4_text_shadow_vertical_length_tablet="0px" header_4_text_shadow_blur_
 strength="header_4_text_shadow_style\,%91object Object%93" header_4_text_s
 hadow_blur_strength_tablet="1px" header_5_text_shadow_horizontal_length="h
 eader_5_text_shadow_style\,%91object Object%93" header_5_text_shadow_horiz
 ontal_length_tablet="0px" header_5_text_shadow_vertical_length="header_5_t
 ext_shadow_style\,%91object Object%93" header_5_text_shadow_vertical_lengt
 h_tablet="0px" header_5_text_shadow_blur_strength="header_5_text_shadow_st
 yle\,%91object Object%93" header_5_text_shadow_blur_strength_tablet="1px" 
 header_6_text_shadow_horizontal_length="header_6_text_shadow_style\,%91obj
 ect Object%93" header_6_text_shadow_horizontal_length_tablet="0px" header_
 6_text_shadow_vertical_length="header_6_text_shadow_style\,%91object Objec
 t%93" header_6_text_shadow_vertical_length_tablet="0px" header_6_text_shad
 ow_blur_strength="header_6_text_shadow_style\,%91object Object%93" header_
 6_text_shadow_blur_strength_tablet="1px" box_shadow_horizontal_tablet="0px
 " box_shadow_vertical_tablet="0px" box_shadow_blur_tablet="40px" box_shado
 w_spread_tablet="0px" z_index_tablet="500"]\n\nsdfg sdg sf gs\n\n[/et_pb_t
 ext][/et_pb_column][et_pb_column type="1_2"][et_pb_comments _builder_versi
 on="3.24" form_field_text_shadow_horizontal_length="form_field_text_shadow
 _style\,%91object Object%93" form_field_text_shadow_horizontal_length_tabl
 et="0px" form_field_text_shadow_vertical_length="form_field_text_shadow_st
 yle\,%91object Object%93" form_field_text_shadow_vertical_length_tablet="0
 px" form_field_text_shadow_blur_strength="form_field_text_shadow_style\,%9
 1object Object%93" form_field_text_shadow_blur_strength_tablet="1px" box_s
 hadow_horizontal_fields_tablet="0px" box_shadow_vertical_fields_tablet="0p
 x" box_shadow_blur_fields_tablet="40px" box_shadow_spread_fields_tablet="0
 px" text_shadow_horizontal_length="text_shadow_style\,%91object Object%93"
  text_shadow_horizontal_length_tablet="0px" text_shadow_vertical_length="t
 ext_shadow_style\,%91object Object%93" text_shadow_vertical_length_tablet=
 "0px" text_shadow_blur_strength="text_shadow_style\,%91object Object%93" t
 ext_shadow_blur_strength_tablet="1px" header_text_shadow_horizontal_length
 ="header_text_shadow_style\,%91object Object%93" header_text_shadow_horizo
 ntal_length_tablet="0px" header_text_shadow_vertical_length="header_text_s
 hadow_style\,%91object Object%93" header_text_shadow_vertical_length_table
 t="0px" header_text_shadow_blur_strength="header_text_shadow_style\,%91obj
 ect Object%93" header_text_shadow_blur_strength_tablet="1px" meta_text_sha
 dow_horizontal_length="meta_text_shadow_style\,%91object Object%93" meta_t
 ext_shadow_horizontal_length_tablet="0px" meta_text_shadow_vertical_length
 ="meta_text_shadow_style\,%91object Object%93" meta_text_shadow_vertical_l
 ength_tablet="0px" meta_text_shadow_blur_strength="meta_text_shadow_style\
 ,%91object Object%93" meta_text_shadow_blur_strength_tablet="1px" body_tex
 t_shadow_horizontal_length="body_text_shadow_style\,%91object Object%93" b
 ody_text_shadow_horizontal_length_tablet="0px" body_text_shadow_vertical_l
 ength="body_text_shadow_style\,%91object Object%93" body_text_shadow_verti
 cal_length_tablet="0px" body_text_shadow_blur_strength="body_text_shadow_s
 tyle\,%91object Object%93" body_text_shadow_blur_strength_tablet="1px" but
 ton_text_shadow_horizontal_length="button_text_shadow_style\,%91object Obj
 ect%93" button_text_shadow_horizontal_length_tablet="0px" button_text_shad
 ow_vertical_length="button_text_shadow_style\,%91object Object%93" button_
 text_shadow_vertical_length_tablet="0px" button_text_shadow_blur_strength=
 "button_text_shadow_style\,%91object Object%93" button_text_shadow_blur_st
 rength_tablet="1px" box_shadow_horizontal_button_tablet="0px" box_shadow_v
 ertical_button_tablet="0px" box_shadow_blur_button_tablet="40px" box_shado
 w_spread_button_tablet="0px" box_shadow_horizontal_tablet="0px" box_shadow
 _vertical_tablet="0px" box_shadow_blur_tablet="40px" box_shadow_spread_tab
 let="0px" z_index_tablet="500" /][/et_pb_column][/et_pb_row][/et_pb_sectio
 n]
CATEGORIES:Reunião
LOCATION:Lisbon Sports Club\, Casal da Carregueira - Belas\, Belas\, Public
 ado\, 2605-213\, Portugal
GEO:38.797665;-9.275861
X-APPLE-STRUCTURED-LOCATION;VALUE=URI;X-ADDRESS=Casal da Carregueira - Bela
 s\, Belas\, Publicado\, 2605-213\, Portugal;X-APPLE-RADIUS=100;X-TITLE=Lis
 bon Sports Club:geo:38.797665,-9.275861
BEGIN:VALARM
ACTION:DISPLAY
DESCRIPTION:Torneio golfe
TRIGGER:-P0DT0H15M0S
END:VALARM
BEGIN:VALARM
ACTION:DISPLAY
DESCRIPTION:Torneio golfe CGD
TRIGGER:-P0DT2H0M0S
END:VALARM
BEGIN:VALARM
ACTION:DISPLAY
DESCRIPTION:Torneio golfe CGD
TRIGGER:-P1D
END:VALARM

END:VEVENT

BEGIN:VTIMEZONE

TZID:Europe/Lisbon

X-LIC-LOCATION:Europe/Lisbon

BEGIN:DAYLIGHT

DTSTART:20190331T020000

TZOFFSETFROM:+0000

TZOFFSETTO:+0100

TZNAME:WEST

END:DAYLIGHT

END:VTIMEZONE
END:VCALENDAR