BEGIN:VCALENDAR

VERSION:2.0

PRODID:-//wp-events-plugin.com//7.2.3.1//EN

TZID:Europe/Lisbon

X-WR-TIMEZONE:Europe/Lisbon
BEGIN:VEVENT

UID:3827@clubegolfecaixa.pt

DTSTART;TZID=Europe/Lisbon:20211219T090000

DTEND;TZID=Europe/Lisbon:20211219T160000

DTSTAMP:20211219T164813Z

URL:https://clubegolfecaixa.pt/golfe/events/torneio-3827/

SUMMARY:Taça Amílcar Camacho 2021 - Golfe
DESCRIPTION:
ATTACH;FMTTYPE=image/jpeg:https://clubegolfecaixa.pt/golfe/wp-content/uplo
 ads/montado_verde.png
CATEGORIES:Torneios,Torneios CGD
LOCATION:Montado\, Urbanização do Campo de Golfe do Montado\, Lote 1\, Al
 geruz\, Palmela\, 2950-051\, Portugal
GEO:38.57004301710536;-8.805932570703135
X-APPLE-STRUCTURED-LOCATION;VALUE=URI;X-ADDRESS=Urbanização do Campo de G
 olfe do Montado\, Lote 1\, Algeruz\, Palmela\, 2950-051\, Portugal;X-APPLE
 -RADIUS=100;X-TITLE=Montado:geo:38.57004301710536,-8.805932570703135
BEGIN:VALARM
ACTION:DISPLAY
DESCRIPTION:Torneio golfe
TRIGGER:-P0DT0H15M0S
END:VALARM
BEGIN:VALARM
ACTION:DISPLAY
DESCRIPTION:Torneio golfe CGD
TRIGGER:-P0DT2H0M0S
END:VALARM
BEGIN:VALARM
ACTION:DISPLAY
DESCRIPTION:Torneio golfe CGD
TRIGGER:-P1D
END:VALARM

END:VEVENT

BEGIN:VTIMEZONE

TZID:Europe/Lisbon

X-LIC-LOCATION:Europe/Lisbon

BEGIN:STANDARD

DTSTART:20211031T010000

TZOFFSETFROM:+0100

TZOFFSETTO:+0000

TZNAME:WET

END:STANDARD

END:VTIMEZONE
END:VCALENDAR