BEGIN:VCALENDAR

VERSION:2.0

PRODID:-//wp-events-plugin.com//7.2.3.1//EN

TZID:Europe/Lisbon

X-WR-TIMEZONE:Europe/Lisbon
BEGIN:VEVENT

UID:3844@clubegolfecaixa.pt

DTSTART;TZID=Europe/Lisbon:20220306T090000

DTEND;TZID=Europe/Lisbon:20220306T133000

DTSTAMP:20220317T170041Z

URL:https://clubegolfecaixa.pt/golfe/events/torneio-3844/

SUMMARY:2º Torneio O.M. CGD 2022 - Golfe
DESCRIPTION:
ATTACH;FMTTYPE=image/jpeg:https://clubegolfecaixa.pt/golfe/wp-content/uplo
 ads/RibagolfeLakes-e1617305095444.jpg
CATEGORIES:Torneios,Torneios CGD
LOCATION:Ribagolfe Lakes (I)\, Vargem Fresca\, EN 119\, Infantado -  Samora
  Correia\, 2135-194\, Lisboa\, Portugal
GEO:38.836506;-8.737495
X-APPLE-STRUCTURED-LOCATION;VALUE=URI;X-ADDRESS=Vargem Fresca\, EN 119\, In
 fantado -  Samora Correia\, 2135-194\, Lisboa\, Portugal;X-APPLE-RADIUS=10
 0;X-TITLE=Ribagolfe Lakes (I):geo:38.836506,-8.737495
BEGIN:VALARM
ACTION:DISPLAY
DESCRIPTION:Torneio golfe
TRIGGER:-P0DT0H15M0S
END:VALARM
BEGIN:VALARM
ACTION:DISPLAY
DESCRIPTION:Torneio golfe CGD
TRIGGER:-P0DT2H0M0S
END:VALARM
BEGIN:VALARM
ACTION:DISPLAY
DESCRIPTION:Torneio golfe CGD
TRIGGER:-P1D
END:VALARM

END:VEVENT

BEGIN:VTIMEZONE

TZID:Europe/Lisbon

X-LIC-LOCATION:Europe/Lisbon

BEGIN:STANDARD

DTSTART:20211031T010000

TZOFFSETFROM:+0100

TZOFFSETTO:+0000

TZNAME:WET

END:STANDARD

END:VTIMEZONE
END:VCALENDAR