BEGIN:VCALENDAR

VERSION:2.0

PRODID:-//wp-events-plugin.com//7.2.3.1//EN

TZID:Europe/Lisbon

X-WR-TIMEZONE:Europe/Lisbon
BEGIN:VEVENT

UID:3849@clubegolfecaixa.pt

DTSTART;TZID=Europe/Lisbon:20220508T083000

DTEND;TZID=Europe/Lisbon:20220508T123600

DTSTAMP:20220501T181046Z

URL:https://clubegolfecaixa.pt/golfe/events/torneio-3849/

SUMMARY:4º Torneio O.M. CGD 2022 - Golfe
DESCRIPTION:
ATTACH;FMTTYPE=image/jpeg:https://clubegolfecaixa.pt/golfe/wp-content/uplo
 ads/Dolce.png
CATEGORIES:Torneios,Torneios CGD
LOCATION:Campo Real\, Rua do Campo\, Turcifal\, Torres Vedras \, 2565-770\,
  Lisboa\, Portugal
GEO:39.034461;-9.242958
X-APPLE-STRUCTURED-LOCATION;VALUE=URI;X-ADDRESS=Rua do Campo\, Turcifal\, T
 orres Vedras \, 2565-770\, Lisboa\, Portugal;X-APPLE-RADIUS=100;X-TITLE=Ca
 mpo Real:geo:39.034461,-9.242958
BEGIN:VALARM
ACTION:DISPLAY
DESCRIPTION:Torneio golfe
TRIGGER:-P0DT0H15M0S
END:VALARM
BEGIN:VALARM
ACTION:DISPLAY
DESCRIPTION:Torneio golfe CGD
TRIGGER:-P0DT2H0M0S
END:VALARM
BEGIN:VALARM
ACTION:DISPLAY
DESCRIPTION:Torneio golfe CGD
TRIGGER:-P1D
END:VALARM

END:VEVENT

BEGIN:VTIMEZONE

TZID:Europe/Lisbon

X-LIC-LOCATION:Europe/Lisbon

BEGIN:DAYLIGHT

DTSTART:20220327T020000

TZOFFSETFROM:+0000

TZOFFSETTO:+0100

TZNAME:WEST

END:DAYLIGHT

END:VTIMEZONE
END:VCALENDAR