BEGIN:VCALENDAR

VERSION:2.0

PRODID:-//wp-events-plugin.com//7.2.3.1//EN

TZID:Europe/Lisbon

X-WR-TIMEZONE:Europe/Lisbon
BEGIN:VEVENT

UID:3850@clubegolfecaixa.pt

DTSTART;TZID=Europe/Lisbon:20220519T083000

DTEND;TZID=Europe/Lisbon:20220519T123000

DTSTAMP:20220508T224533Z

URL:https://clubegolfecaixa.pt/golfe/events/torneio-3850/

SUMMARY:5º Torneio O.M. CGD Apos. 2022 - Golfe
DESCRIPTION:
ATTACH;FMTTYPE=image/jpeg:https://clubegolfecaixa.pt/golfe/wp-content/uplo
 ads/beloura.png
CATEGORIES:Torneios,Torneios Aposentados
LOCATION:Beloura Golfe\, R. Sesmarias 3\, Quinta da Beloura\, Sintra\, 2710
 -692\, Quinta da Beloura\, Sintra\, Portugal
GEO:38.764198;-9.367659900000035
X-APPLE-STRUCTURED-LOCATION;VALUE=URI;X-ADDRESS=R. Sesmarias 3\, Quinta da 
 Beloura\, Sintra\, 2710-692\, Quinta da Beloura\, Sintra\, Portugal;X-APPL
 E-RADIUS=100;X-TITLE=Beloura Golfe:geo:38.764198,-9.367659900000035
BEGIN:VALARM
ACTION:DISPLAY
DESCRIPTION:Torneio golfe
TRIGGER:-P0DT0H15M0S
END:VALARM
BEGIN:VALARM
ACTION:DISPLAY
DESCRIPTION:Torneio golfe CGD
TRIGGER:-P0DT2H0M0S
END:VALARM
BEGIN:VALARM
ACTION:DISPLAY
DESCRIPTION:Torneio golfe CGD
TRIGGER:-P1D
END:VALARM

END:VEVENT

BEGIN:VTIMEZONE

TZID:Europe/Lisbon

X-LIC-LOCATION:Europe/Lisbon

BEGIN:DAYLIGHT

DTSTART:20220327T020000

TZOFFSETFROM:+0000

TZOFFSETTO:+0100

TZNAME:WEST

END:DAYLIGHT

END:VTIMEZONE
END:VCALENDAR