BEGIN:VCALENDAR

VERSION:2.0

PRODID:-//wp-events-plugin.com//7.2.3.1//EN

TZID:Europe/Lisbon

X-WR-TIMEZONE:Europe/Lisbon
BEGIN:VEVENT

UID:3852@clubegolfecaixa.pt

DTSTART;TZID=Europe/Lisbon:20220719T090000

DTEND;TZID=Europe/Lisbon:20220719T130000

DTSTAMP:20220701T213408Z

URL:https://clubegolfecaixa.pt/golfe/events/torneio-3852/

SUMMARY:7º Torneio O.M. CGD Apos. 2022 - Golfe
DESCRIPTION:
ATTACH;FMTTYPE=image/jpeg:https://clubegolfecaixa.pt/golfe/wp-content/uplo
 ads/2016/03/Lisbon_logo-e1476869322375.png
CATEGORIES:Torneios,Torneios Aposentados
LOCATION:Lisbon Sports Club\, Casal da Carregueira - Belas\, Belas\, 2605-2
 13\, Portugal
GEO:38.79769170022251;-9.275859792095957
X-APPLE-STRUCTURED-LOCATION;VALUE=URI;X-ADDRESS=Casal da Carregueira - Bela
 s\, Belas\, 2605-213\, Portugal;X-APPLE-RADIUS=100;X-TITLE=Lisbon Sports C
 lub:geo:38.79769170022251,-9.275859792095957
BEGIN:VALARM
ACTION:DISPLAY
DESCRIPTION:Torneio golfe
TRIGGER:-P0DT0H15M0S
END:VALARM
BEGIN:VALARM
ACTION:DISPLAY
DESCRIPTION:Torneio golfe CGD
TRIGGER:-P0DT2H0M0S
END:VALARM
BEGIN:VALARM
ACTION:DISPLAY
DESCRIPTION:Torneio golfe CGD
TRIGGER:-P1D
END:VALARM

END:VEVENT

BEGIN:VTIMEZONE

TZID:Europe/Lisbon

X-LIC-LOCATION:Europe/Lisbon

BEGIN:DAYLIGHT

DTSTART:20220327T020000

TZOFFSETFROM:+0000

TZOFFSETTO:+0100

TZNAME:WEST

END:DAYLIGHT

END:VTIMEZONE
END:VCALENDAR