BEGIN:VCALENDAR

VERSION:2.0

PRODID:-//wp-events-plugin.com//7.2.3.1//EN

TZID:Europe/Lisbon

X-WR-TIMEZONE:Europe/Lisbon
BEGIN:VEVENT

UID:3853@clubegolfecaixa.pt

DTSTART;TZID=Europe/Lisbon:20220921T083000

DTEND;TZID=Europe/Lisbon:20220921T123000

DTSTAMP:20220914T154618Z

URL:https://clubegolfecaixa.pt/golfe/events/torneio-3853/

SUMMARY:8º Torneio O.M. CGD Apos. 2022 - Golfe
DESCRIPTION:
ATTACH;FMTTYPE=image/jpeg:https://clubegolfecaixa.pt/golfe/wp-content/uplo
 ads/montado_verde.png
CATEGORIES:Torneios,Torneios Aposentados
LOCATION:Montado\, Urbanização do Campo de Golfe do Montado\, Lote 1\, Al
 geruz\, Palmela\, 2950-051\, Portugal
GEO:38.57004301710536;-8.805932570703135
X-APPLE-STRUCTURED-LOCATION;VALUE=URI;X-ADDRESS=Urbanização do Campo de G
 olfe do Montado\, Lote 1\, Algeruz\, Palmela\, 2950-051\, Portugal;X-APPLE
 -RADIUS=100;X-TITLE=Montado:geo:38.57004301710536,-8.805932570703135
BEGIN:VALARM
ACTION:DISPLAY
DESCRIPTION:Torneio golfe
TRIGGER:-P0DT0H15M0S
END:VALARM
BEGIN:VALARM
ACTION:DISPLAY
DESCRIPTION:Torneio golfe CGD
TRIGGER:-P0DT2H0M0S
END:VALARM
BEGIN:VALARM
ACTION:DISPLAY
DESCRIPTION:Torneio golfe CGD
TRIGGER:-P1D
END:VALARM

END:VEVENT

BEGIN:VTIMEZONE

TZID:Europe/Lisbon

X-LIC-LOCATION:Europe/Lisbon

BEGIN:DAYLIGHT

DTSTART:20220327T020000

TZOFFSETFROM:+0000

TZOFFSETTO:+0100

TZNAME:WEST

END:DAYLIGHT

END:VTIMEZONE
END:VCALENDAR