BEGIN:VCALENDAR

VERSION:2.0

PRODID:-//wp-events-plugin.com//7.2.3.1//EN

TZID:Europe/Lisbon

X-WR-TIMEZONE:Europe/Lisbon
BEGIN:VEVENT

UID:3860@clubegolfecaixa.pt

DTSTART;TZID=Europe/Lisbon:20220828T083200

DTEND;TZID=Europe/Lisbon:20220828T123800

DTSTAMP:20220823T215933Z

URL:https://clubegolfecaixa.pt/golfe/events/torneio-3860/

SUMMARY:8º Torneio O.M. CGD 2022 - Golfe
DESCRIPTION:
ATTACH;FMTTYPE=image/jpeg:https://clubegolfecaixa.pt/golfe/wp-content/uplo
 ads/lisbonclub.png
CATEGORIES:Torneios,Torneios CGD
LOCATION:Lisbon Sports Club\, Casal da Carregueira - Belas\, Belas\, Public
 ado\, 2605-213\, Portugal
GEO:38.798628;-9.271547
X-APPLE-STRUCTURED-LOCATION;VALUE=URI;X-ADDRESS=Casal da Carregueira - Bela
 s\, Belas\, Publicado\, 2605-213\, Portugal;X-APPLE-RADIUS=100;X-TITLE=Lis
 bon Sports Club:geo:38.798628,-9.271547
BEGIN:VALARM
ACTION:DISPLAY
DESCRIPTION:Torneio golfe
TRIGGER:-P0DT0H15M0S
END:VALARM
BEGIN:VALARM
ACTION:DISPLAY
DESCRIPTION:Torneio golfe CGD
TRIGGER:-P0DT2H0M0S
END:VALARM
BEGIN:VALARM
ACTION:DISPLAY
DESCRIPTION:Torneio golfe CGD
TRIGGER:-P1D
END:VALARM

END:VEVENT

BEGIN:VTIMEZONE

TZID:Europe/Lisbon

X-LIC-LOCATION:Europe/Lisbon

BEGIN:DAYLIGHT

DTSTART:20220327T020000

TZOFFSETFROM:+0000

TZOFFSETTO:+0100

TZNAME:WEST

END:DAYLIGHT

END:VTIMEZONE
END:VCALENDAR