BEGIN:VCALENDAR

VERSION:2.0

PRODID:-//wp-events-plugin.com//7.2.3.1//EN

TZID:Europe/Lisbon

X-WR-TIMEZONE:Europe/Lisbon
BEGIN:VEVENT

UID:3866@clubegolfecaixa.pt

DTSTART;TZID=Europe/Lisbon:20220610T090000

DTEND;TZID=Europe/Lisbon:20220610T180000

DTSTAMP:20230107T181111Z

URL:https://clubegolfecaixa.pt/golfe/events/torneio-3866/

SUMMARY:Torneio da Sardinhada 2022 - Golfe
DESCRIPTION:
ATTACH;FMTTYPE=image/jpeg:https://clubegolfecaixa.pt/golfe/wp-content/uplo
 ads/salgados_golf_course-1.png
CATEGORIES:Torneios,Torneios CGD
LOCATION:Salgados Golf\, Rua do Golfe\, Guia - Albufeira\, 8200-424\, Algar
 ve\, Portugal
GEO:37.0945488;-8.321969699999954
X-APPLE-STRUCTURED-LOCATION;VALUE=URI;X-ADDRESS=Rua do Golfe\, Guia - Albuf
 eira\, 8200-424\, Algarve\, Portugal;X-APPLE-RADIUS=100;X-TITLE=Salgados G
 olf:geo:37.0945488,-8.321969699999954
BEGIN:VALARM
ACTION:DISPLAY
DESCRIPTION:Torneio golfe
TRIGGER:-P0DT0H15M0S
END:VALARM
BEGIN:VALARM
ACTION:DISPLAY
DESCRIPTION:Torneio golfe CGD
TRIGGER:-P0DT2H0M0S
END:VALARM
BEGIN:VALARM
ACTION:DISPLAY
DESCRIPTION:Torneio golfe CGD
TRIGGER:-P1D
END:VALARM

END:VEVENT

BEGIN:VTIMEZONE

TZID:Europe/Lisbon

X-LIC-LOCATION:Europe/Lisbon

BEGIN:DAYLIGHT

DTSTART:20220327T020000

TZOFFSETFROM:+0000

TZOFFSETTO:+0100

TZNAME:WEST

END:DAYLIGHT

END:VTIMEZONE
END:VCALENDAR